BEGIN:VCALENDAR
VERSION:2.0
PRODID:-//Succes Door Energie - ECPv6.15.20//NONSGML v1.0//EN
CALSCALE:GREGORIAN
METHOD:PUBLISH
X-WR-CALNAME:Succes Door Energie
X-ORIGINAL-URL:https://succesdoorenergie.nl
X-WR-CALDESC:Evenementen voor Succes Door Energie
REFRESH-INTERVAL;VALUE=DURATION:PT1H
X-Robots-Tag:noindex
X-PUBLISHED-TTL:PT1H
BEGIN:VTIMEZONE
TZID:UTC
BEGIN:STANDARD
TZOFFSETFROM:+0000
TZOFFSETTO:+0000
TZNAME:UTC
DTSTART:20250101T000000
END:STANDARD
END:VTIMEZONE
BEGIN:VEVENT
DTSTART;TZID=UTC:20260411T100000
DTEND;TZID=UTC:20260411T170000
DTSTAMP:20260422T224156
CREATED:20220317T164356Z
LAST-MODIFIED:20260409T094745Z
UID:1407-1775901600-1775926800@succesdoorenergie.nl
SUMMARY:Spiritueel Alternatief - Broodfabriek Rijswijk
DESCRIPTION:De ticketverkoop voor bezoekers is geopend via de website. Met de unieke kortingscode SUCCES kunnen bezoekers online een ticket kopen met 25% korting per ticket.
URL:https://succesdoorenergie.nl/event/paranormaal-alternatief-broodfrabriek-rijswijk-2/
LOCATION:Broodfabriek Rijswijk\, Volmerlaan 12\, Rijswijk\, 2288GD\, Nederland
ORGANIZER;CN="Paranormaal Alternatief":MAILTO:Paranormaal@de-broodfabriek.nl.
END:VEVENT
BEGIN:VEVENT
DTSTART;TZID=UTC:20260412T100000
DTEND;TZID=UTC:20260412T170000
DTSTAMP:20260422T224156
CREATED:20220317T164011Z
LAST-MODIFIED:20260409T094528Z
UID:1404-1775988000-1776013200@succesdoorenergie.nl
SUMMARY:Spiritueel Alternatief - Broodfrabriek Rijswijk
DESCRIPTION:De ticketverkoop voor bezoekers is geopend via de website. Met de unieke kortingscode SUCCES kunnen bezoekers online een ticket kopen met 25% korting per ticket.
URL:https://succesdoorenergie.nl/event/paranormaal-alternatief-broodfrabriek-rijswijk/
LOCATION:Broodfabriek Rijswijk\, Volmerlaan 12\, Rijswijk\, 2288GD\, Nederland
ORGANIZER;CN="Paranormaal Alternatief":MAILTO:Paranormaal@de-broodfabriek.nl.
END:VEVENT
END:VCALENDAR